BEGIN:VCALENDAR
VERSION:2.0
PRODID:-//louange &amp; adoration - ECPv6.15.20//NONSGML v1.0//EN
CALSCALE:GREGORIAN
METHOD:PUBLISH
X-ORIGINAL-URL:https://lifecenterbelgique.be
X-WR-CALDESC:Évènements pour louange &amp; adoration
REFRESH-INTERVAL;VALUE=DURATION:PT1H
X-Robots-Tag:noindex
X-PUBLISHED-TTL:PT1H
BEGIN:VTIMEZONE
TZID:Europe/Paris
BEGIN:DAYLIGHT
TZOFFSETFROM:+0100
TZOFFSETTO:+0200
TZNAME:CEST
DTSTART:20250330T010000
END:DAYLIGHT
BEGIN:STANDARD
TZOFFSETFROM:+0200
TZOFFSETTO:+0100
TZNAME:CET
DTSTART:20251026T010000
END:STANDARD
BEGIN:DAYLIGHT
TZOFFSETFROM:+0100
TZOFFSETTO:+0200
TZNAME:CEST
DTSTART:20260329T010000
END:DAYLIGHT
BEGIN:STANDARD
TZOFFSETFROM:+0200
TZOFFSETTO:+0100
TZNAME:CET
DTSTART:20261025T010000
END:STANDARD
BEGIN:DAYLIGHT
TZOFFSETFROM:+0100
TZOFFSETTO:+0200
TZNAME:CEST
DTSTART:20270328T010000
END:DAYLIGHT
BEGIN:STANDARD
TZOFFSETFROM:+0200
TZOFFSETTO:+0100
TZNAME:CET
DTSTART:20271031T010000
END:STANDARD
END:VTIMEZONE
BEGIN:VEVENT
DTSTART;TZID=Europe/Paris:20260424T220000
DTEND;TZID=Europe/Paris:20260425T060000
DTSTAMP:20260422T161804
CREATED:20260421T133459Z
LAST-MODIFIED:20260421T133602Z
UID:14997-1777068000-1777096800@lifecenterbelgique.be
SUMMARY:Veillée de Life Center
DESCRIPTION:Bienvenue ce vendredi 24-04 dans la veillée de Life Center Bruxelles à 22h 🙏
URL:https://lifecenterbelgique.be/event/veillee-de-life-center/
LOCATION:Rue Birmingham 54\, Molenbeek-Saint-Jean\, Bruxelles\, 1080\, Belgium
CATEGORIES:Life center Bruxelles
ATTACH;FMTTYPE=image/jpeg:https://lifecenterbelgique.be/wp-content/uploads/2026/04/veille.jpeg
ORGANIZER;CN="Life Center Bruxelles":MAILTO:lifecenterbruxelles@gmail.com
END:VEVENT
END:VCALENDAR